BEGIN:VCALENDAR
VERSION:2.0
PRODID:-//Show-Orchester Rheingau-Mitte e.V.//NONSGML kigkonsult.se iCalcreator 2.41.92//
CALSCALE:GREGORIAN
METHOD:PUBLISH
UID:31653337-3434-4431-b630-643461666335
X-WR-CALNAME:iCagenda
X-WR-CALDESC:Event Management Extension for Joomla!
X-WR-RELCALID:3E26604A-50F4-4449-8B3E-E4F4932D05B5
X-WR-TIMEZONE:Europe/Berlin
BEGIN:VTIMEZONE
TZID:Europe/Berlin
TZUNTIL:20240331T010000Z
BEGIN:STANDARD
TZNAME:CET
DTSTART:20211031T030000
TZOFFSETFROM:+0200
TZOFFSETTO:+0100
RDATE:20221030T030000
RDATE:20231029T030000
END:STANDARD
BEGIN:DAYLIGHT
TZNAME:CEST
DTSTART:20220327T020000
TZOFFSETFROM:+0100
TZOFFSETTO:+0200
RDATE:20230326T020000
END:DAYLIGHT
END:VTIMEZONE
BEGIN:VEVENT
UID:61663330-6335-4239-b634-326531636131
DTSTAMP:20260423T082327Z
CATEGORIES:Stammorchester
CLASS:PUBLIC
DESCRIPTION:
DTSTART:20220710T090000Z
DTEND:20220710T090000Z
GEO:00;0
LOCATION:Oestrich\, Weinstand
ORGANIZER:
SEQUENCE:1
SUMMARY:Kranfest Oestrich
TRANSP:OPAQUE
URL:https://www.rheingau-mitte.de/index.php/events/kerb-oestrich/2022-07-10
 -11-00
END:VEVENT
END:VCALENDAR
