BEGIN:VCALENDAR
VERSION:2.0
PRODID:-//Show-Orchester Rheingau-Mitte e.V.//NONSGML kigkonsult.se iCalcreator 2.41.92//
CALSCALE:GREGORIAN
METHOD:PUBLISH
UID:34656561-3238-4761-b337-366166376539
X-WR-CALNAME:iCagenda
X-WR-CALDESC:Event Management Extension for Joomla!
X-WR-RELCALID:3E26604A-50F4-4449-8B3E-E4F4932D05B5
X-WR-TIMEZONE:Europe/Berlin
BEGIN:VTIMEZONE
TZID:Europe/Berlin
TZUNTIL:20250330T010000Z
BEGIN:STANDARD
TZNAME:CET
DTSTART:20221030T030000
TZOFFSETFROM:+0200
TZOFFSETTO:+0100
RDATE:20231029T030000
RDATE:20241027T030000
END:STANDARD
BEGIN:DAYLIGHT
TZNAME:CEST
DTSTART:20230326T020000
TZOFFSETFROM:+0100
TZOFFSETTO:+0200
RDATE:20240331T020000
END:DAYLIGHT
END:VTIMEZONE
BEGIN:VEVENT
UID:65353962-3166-4966-b630-393232316430
DTSTAMP:20260423T093336Z
CATEGORIES:Stammorchester
CLASS:PUBLIC
DESCRIPTION;ALTREP="CID:<FFFF__=0ABBE548DFE235B58f9e8a93d@coffeebean.com>":
 &nbsp\;\n&nbsp\;\n&nbsp\;
DTSTART:20230513T180000Z
DTEND:20230513T180000Z
GEO:+50.004856;+8.000073
LOCATION:Vereinshaus Rheingau-Mitte
ORGANIZER:
SEQUENCE:1
SUMMARY:Night of Music
TRANSP:OPAQUE
URL:https://www.rheingau-mitte.de/index.php/events/night-of-music/2023-05-1
 3-20-00
END:VEVENT
END:VCALENDAR
